BEGIN:VCALENDAR
VERSION:2.0
PRODID:-//ViviComics - ECPv6.4.0.1//NONSGML v1.0//EN
CALSCALE:GREGORIAN
METHOD:PUBLISH
X-WR-CALNAME:ViviComics
X-ORIGINAL-URL:https://www.vivicomics.com
X-WR-CALDESC:Eventi per ViviComics
REFRESH-INTERVAL;VALUE=DURATION:PT1H
X-Robots-Tag:noindex
X-PUBLISHED-TTL:PT1H
BEGIN:VTIMEZONE
TZID:Europe/Rome
BEGIN:DAYLIGHT
TZOFFSETFROM:+0100
TZOFFSETTO:+0200
TZNAME:CEST
DTSTART:20220327T010000
END:DAYLIGHT
BEGIN:STANDARD
TZOFFSETFROM:+0200
TZOFFSETTO:+0100
TZNAME:CET
DTSTART:20221030T010000
END:STANDARD
END:VTIMEZONE
BEGIN:VEVENT
DTSTART;VALUE=DATE:20220729
DTEND;VALUE=DATE:20220801
DTSTAMP:20260425T125738
CREATED:20220718T101519Z
LAST-MODIFIED:20240802T161654Z
UID:4228-1659052800-1659311999@www.vivicomics.com
SUMMARY:Festa dell'Unicorno
DESCRIPTION:Per chi desidera partecipare a Lucca Comics e pernottare in Toscana più giornate\, ViviComics ha messo in piedi il pacchetto Extended. Si tratta di un viaggio rivolto a coloro che abitano in Puglia e vogliono (o hanno bisogno di) spostarsi in compagnia. Il trasferimento avviene tramite un bus Gran Turismo dedicato\, che prima di raggiungere la Toscana fa alcune fermate per raccogliere tutti i partecipanti. Nello specifico\, il bus fa tappa a: LecceBrindisiTarantoBariBarletta (BT)Cerignola (FG)In sintesi\, se non sai come arrivare a Lucca partendo dalla Puglia e vuoi goderti la fiera in gruppo\, viaggiare con ViviComics è l’ideale per te. Scopri di più su programma di viaggio\, prezzi e condizioni di vendita nelle sezioni sottostanti. L’edizione 2024 si terrà dal 30 ottobre al 3 novembre 2024. LUCCA COMICS – EXTENDEDCodice di Viaggio: VCG02-24  Data: dal 1 al 2 novembre 2024 | 2 giorni e 1 notte  Luogo: centro storico di Lucca Sito web dell’evento Lucca Comics 								\n				\n					\n		\n					\n		\n				\n						\n					\n			\n						\n				\n							\n							\n					\n												\n															\n								\n													\n												Programma di Viaggio\n					\n\n					Programma di ViaggioGiovedì 31 ottobre: PartenzaRaduno con l’accompagnatrice ViviComics nei punti di ritrovo* e partenza per Lucca. Prima dell’arrivo sono previste delle soste in autogrill. Prima dell’arrivo a Lucca c’è una sosta prolungata per la prima colazione\, sistemazione zaini ed eventuale preparazione per i cosplayer. Venerdì 1 novembre: Lucca Comics – HotelArrivo nel centro storico di Lucca per partecipare all’evento Lucca Comics&Games. Giornata libera.Raduno dei partecipanti nel luogo e orario di ritrovo indicato dall’accompagnatrice ViviComics e trasferimento in pullman per l’hotel. Sistemazione nelle camere. Pernottamento. Sabato 2 novembre: Lucca Comics – RientroPrima colazione in hotel. Carico dei bagagli sul pullman e trasferimento per Lucca. Arrivo nel centro storico di Lucca per partecipare all’evento Lucca Comics&Games. Giornata libera.Raduno dei partecipanti nel luogo e orario di ritrovo indicato dall’accompagnatrice ViviComics e partenza per il rientro. Domenica 3 novembre: ArrivoArrivo nelle proprie città in nottata/mattinata. Soste in autogrill durante il viaggio. Fine dei servizi.  \n				\n							\n					\n												\n															\n								\n													\n												Punti di ritrovo e partenza\n					\n\n					Giovedì 31 ottobre Ore 17:30: partenza da Lecce – Piazza Carmelo Bene (c/o hotel Tiziano)  Ore 18:10: partenza da Brindisi – Strada Statale 7 per Mesagne (c/o la rotonda) Ore 19:30: partenza da Taranto – Viale Magna Grecia (c/o piazzale della Concattedrale) Ore 21:00: partenza da Bari – Via Capruzzi (c/o Largo Sorrentino)  Ore 22:00: partenza da Barletta (BT) – Via Andria (c/o Barletta Scalo)  Ore 22:30: partenza da Cerignola (FG) – Viale dei Mandorli (c/o Tamoil)  Si raccomanda di presentarsi nei punti di ritrovo almeno 10 minuti prima dell’orario di partenza \n				\n							\n					\n												\n															\n								\n													\n												Prezzi e Condizioni\n					\n\n					Quota di partecipazione *EARLY BIRD € 265 a persona*Promozione valida fino al 10 settembre 2024Quota di partecipazione DOPO il 10 settembre € 285 a persona Acconto: € 80 a personaSaldo: entro il 3 ottobre 2024Numero minimo partecipanti: 30 Condizioni di vendita: Condizioni di viaggio per i minoriCondizioni di venditaCondizioni di vendita di pacchetti turistici\n				\n							\n					\n												\n															\n								\n													\n												La quota comprende\n					\n\n					Viaggio in pullman Gran TurismoAccompagnatrice ViviComics per tutto il viaggioSistemazione in hotel 3 o 4 stelle a Montecatini Terme (o dintorni) per 1 notte in camere doppie\, triple\, quadruple con bagno privatoTrattamento di pernottamento e prima colazione Trasferimenti in pullman dall’hotel a Lucca e viceversa come da programma di viaggioIscrizione associativa con Tessera Cultura e Sport ENAC – con assicurazione infortuni\n				\n							\n					\n												\n															\n								\n													\n												La quota non  comprende\n					\n\n					Biglietto d’ingresso a Lucca Comics (noi di ViviComics possiamo acquistarlo per te con una fee di € 3\,00\, purchè al momento della prenotazione del viaggio ce lo scrivi nel campo note)I pastiGli extra di carattere personaleLa tassa di soggiorno da versare in contanti all’arrivo in hotel\n				\n							\n					\n												\n															\n								\n													\n												Supplementi\n					\n\n					Sistemazione in camera doppia con supplemento di € 20 a persona (disponibilità su richiesta alla prenotazione)\n				\n							\n					\n												\n															\n								\n													\n												Note\n					\n\n					Il viaggio è confermato con un minimo di 30 partecipanti e ne verrà data comunicazione entro il 3 ottobre 2024 Si accettano prenotazioni sino ad esaurimento posti. La disposizione sul bus avviene in ordine di prenotazione. La sistemazione nelle camere\, se nulla è specificato all’atto della prenotazione\, avverrà a discrezione dell’agenzia. Prima della prenotazione al viaggio leggi con attenzione le Condizioni di viaggio per minori\, le Condizioni di vendita e le FAQ – Domande frequenti \n				\n								\n						\n				\n					\n		\n					\n		\n				\n						\n					\n			\n							\n		\n					\n		\n				\n						\n					\n			\n						\n				\n					Prenotazioni chiuse il 4 ottobre 2024! 				\n				\n				\n				\n							\n			\n			\n			\n\n			\n			\n								\n												\n								Nome e Cognome							\n														\n											\n								\n												\n								Data nascita							\n						\n		\n						\n								\n												\n								Luogo nascita e provincia							\n														\n											\n								\n												\n								Codice fiscale							\n														\n											\n								\n												\n								Città - Prov. - Indirizzo e numero civico di residenza							\n														\n											\n								\n												\n								C.A.P.							\n														\n											\n								\n												\n								La tua email							\n														\n											\n								\n												\n								Recapito Telefonico							\n								\n\n						\n								\n												\n								Numero persone							\n									\n						\n								\n												\n								PER GLI ALTRI PARTECIPANTI INDICARE: NOME E COGNOME\, DATA E LUOGO NASCITA\, RECAPITO TELEFONICO E EMAIL							\n														\n											\n								\n												\n								Seleziona il tipo di camera:							\n								\n			\n							\n			\n									Doppia (con supplemento di € 20 a persona)\n									Tripla/Quadrupla\n									Assegnazione libera con altri partecipanti (a discrezione del team ViviComics)\n									\n							\n		\n						\n								\n												\n								Intolleranze/Allergie alimentari							\n														\n											\n								\n												\n								Seleziona la città di partenza:							\n								\n			\n							\n			\n									LECCE\n									BRINDISI\n									TARANTO\n									BARI\n									BARLETTA\n									CERIGNOLA\n							\n		\n						\n								\n												\n								ALTRE RICHIESTE							\n														\n											\n								\n									\n								\n												\n								Impegnativa							\n								\n			\n				\n				Mi impegno a versare l'acconto di € 80 a persona			\n		\n						\n								\n												\n								Privacy e Condizioni							\n								\n			\n				\n				Accetto i  Termini e le condizioni   e la Privacy policy			\n		\n						\n								\n					\n						\n															\n																										\n																						Invia\n													\n					\n				\n			\n		\n						\n				\n					\n		\n					\n		\n				\n						\n					\n			\n						\n				\n							\n			\n						\n		\n						\n				\n					\n		\n					\n		\n				\n						\n					\n			\n						\n				\n							\n			\n				\n														\n							\n		\n						\n				\n				\n				\n									Cos’è Lucca Comics Lucca Comics è la fiera del fumetto più grande d’Europa. Non solo\, ma è anche una delle prime che si è affermata sul vecchio continente. La manifestazione è ufficialmente nata nel 1993 a Lucca\, ma le basi per l’iniziativa sono state gettate molto prima\, nel 1966. Oggi l’evento si svolge nella città toscana con cadenza annuale e ha una durata di cinque giorni. Volendo essere più precisi\, Lucca Comics e Games si tiene tradizionalmente a cavallo tra la fine di ottobre e l’inizio di novembre.  A rendere la manifestazione unica è anche la location. Ogni sezione dell’iniziativa\, infatti\, è dislocata in vari punti della città\, tutti compresi all’interno delle mura. I padiglioni comics\, ad esempio\, sono distribuiti tra piazza Napoleone\, piazza del Giglio\, piazza San Giovanni\, piazza San Martino e corso Garibaldi. Altra caratteristica fondamentale di Lucca Comics\, poi\, è la multitematicità. Ancora oggi il focus è principalmente sui comics e sui games\, ma ci sono altre aree che trovano spazio in seno all’iniziativa. Tra queste\, ricordiamo Lucca Junior (pensata per i più giovani)\, Lucca Music & cosplay\, riservata alle esibizioni dal vivo\, e Japan Palace\, che ospita tutto ciò che riguarda la cultura giapponese. Questo naturalmente è solo un assaggio di ciò che accade a Lucca Comics ogni anno.  								\n				\n					\n		\n					\n		\n				\n						\n					\n			\n							\n		\n					\n		\n				\n						\n					\n			\n						\n				\n							\n				\n				\n			\n		\n				\n				\n			\n				Tutte le FAQ sul nostro viaggio Lucca Comics & Games 2023			\n		\n				\n					\n			13 Luglio 2023		\n				\n				\n			Stai pensando di partecipare al nostro viaggio Lucca Comics & Games 2023 e hai delle domande su come funzioni il tutto? Qui abbiamo raggruppato le \n		\n		\n		\n			Continua »
URL:https://www.vivicomics.com/viaggio/festa-dellunicorno/
LOCATION:Vinci\, Vinci\, Firenze\, 50059\, Italia
CATEGORIES:Special
ATTACH;FMTTYPE=image/png:https://www.vivicomics.com/wp-content/uploads/2022/07/festa-dell-unicorno.png
ORGANIZER;CN="Vivicomics":MAILTO:info@vivicomics.com
END:VEVENT
END:VCALENDAR